Package: tRanslatome Version: 1.42.0 Command: rm -rf tRanslatome.buildbin-libdir && mkdir tRanslatome.buildbin-libdir && F:\biocbuild\bbs-3.19-bioc\R\bin\R.exe CMD INSTALL --build --library=tRanslatome.buildbin-libdir tRanslatome_1.42.0.tar.gz StartedAt: 2024-06-27 09:03:51 -0400 (Thu, 27 Jun 2024) EndedAt: 2024-06-27 09:04:54 -0400 (Thu, 27 Jun 2024) EllapsedTime: 62.3 seconds RetCode: 0 Status: OK PackageFile: tRanslatome_1.42.0.zip PackageFileSize: 1.194 MiB