Package: tRanslatome Version: 1.42.0 Command: /Library/Frameworks/R.framework/Resources/bin/R CMD check --install=check:tRanslatome.install-out.txt --library=/Library/Frameworks/R.framework/Resources/library --no-vignettes --timings tRanslatome_1.42.0.tar.gz StartedAt: 2024-06-09 23:37:38 -0400 (Sun, 09 Jun 2024) EndedAt: 2024-06-09 23:43:23 -0400 (Sun, 09 Jun 2024) EllapsedTime: 345.0 seconds RetCode: 0 Status: OK CheckDir: tRanslatome.Rcheck Warnings: 0