Package: tRanslatome Version: 1.42.0 Command: /Library/Frameworks/R.framework/Resources/bin/R CMD build --keep-empty-dirs --no-resave-data tRanslatome StartedAt: 2024-10-17 10:55:09 -0400 (Thu, 17 Oct 2024) EndedAt: 2024-10-17 10:57:02 -0400 (Thu, 17 Oct 2024) EllapsedTime: 113.0 seconds RetCode: 0 Status: OK PackageFile: tRanslatome_1.42.0.tar.gz PackageFileSize: 936.1 KiB