Package: tRNAscanImport Version: 1.24.0 Command: chmod a+r tRNAscanImport -R && E:\biocbuild\bbs-3.19-bioc\R\bin\R.exe CMD build --keep-empty-dirs --no-resave-data tRNAscanImport StartedAt: 2024-10-16 22:25:49 -0400 (Wed, 16 Oct 2024) EndedAt: 2024-10-16 22:27:51 -0400 (Wed, 16 Oct 2024) EllapsedTime: 121.7 seconds RetCode: 0 Status: OK PackageFile: tRNAscanImport_1.24.0.tar.gz PackageFileSize: 455.7 KiB