Package: tRNAscanImport Version: 1.24.0 Command: rm -rf tRNAscanImport.buildbin-libdir && mkdir tRNAscanImport.buildbin-libdir && E:\biocbuild\bbs-3.19-bioc\R\bin\R.exe CMD INSTALL --build --library=tRNAscanImport.buildbin-libdir tRNAscanImport_1.24.0.tar.gz StartedAt: 2024-10-17 08:49:09 -0400 (Thu, 17 Oct 2024) EndedAt: 2024-10-17 08:50:16 -0400 (Thu, 17 Oct 2024) EllapsedTime: 66.8 seconds RetCode: 0 Status: OK PackageFile: tRNAscanImport_1.24.0.zip PackageFileSize: 500.7 KiB