Package: tRNAscanImport Version: 1.24.0 Command: F:\biocbuild\bbs-3.19-bioc\R\bin\R.exe CMD check --no-multiarch --install=check:tRNAscanImport.install-out.txt --library=F:\biocbuild\bbs-3.19-bioc\R\library --no-vignettes --timings tRNAscanImport_1.24.0.tar.gz StartedAt: 2024-06-27 07:11:22 -0400 (Thu, 27 Jun 2024) EndedAt: 2024-06-27 07:16:51 -0400 (Thu, 27 Jun 2024) EllapsedTime: 328.2 seconds RetCode: 0 Status: OK CheckDir: tRNAscanImport.Rcheck Warnings: 0