Package: tRNAscanImport Version: 1.24.0 Command: /home/biocbuild/bbs-3.19-bioc/R/bin/R CMD INSTALL tRNAscanImport StartedAt: 2024-10-16 16:07:27 -0400 (Wed, 16 Oct 2024) EndedAt: 2024-10-16 16:08:03 -0400 (Wed, 16 Oct 2024) EllapsedTime: 36.0 seconds RetCode: 0 Status: OK