Package: tRNAscanImport Version: 1.24.0 Command: /Library/Frameworks/R.framework/Resources/bin/R CMD check --install=check:tRNAscanImport.install-out.txt --library=/Library/Frameworks/R.framework/Resources/library --no-vignettes --timings tRNAscanImport_1.24.0.tar.gz StartedAt: 2024-10-17 14:45:22 -0400 (Thu, 17 Oct 2024) EndedAt: 2024-10-17 14:56:42 -0400 (Thu, 17 Oct 2024) EllapsedTime: 680.7 seconds RetCode: 0 Status: OK CheckDir: tRNAscanImport.Rcheck Warnings: 0