Package: tRNAscanImport Version: 1.24.0 Command: /Library/Frameworks/R.framework/Resources/bin/R CMD check --install=check:tRNAscanImport.install-out.txt --library=/Library/Frameworks/R.framework/Resources/library --no-vignettes --timings tRNAscanImport_1.24.0.tar.gz StartedAt: 2024-06-11 08:57:23 -0400 (Tue, 11 Jun 2024) EndedAt: 2024-06-11 09:05:05 -0400 (Tue, 11 Jun 2024) EllapsedTime: 461.9 seconds RetCode: 0 Status: OK CheckDir: tRNAscanImport.Rcheck Warnings: 0