Package: tRNAscanImport Version: 1.24.0 Command: rm -rf tRNAscanImport.buildbin-libdir && mkdir tRNAscanImport.buildbin-libdir && /Users/biocbuild/BBS/utils/build-universal.sh tRNAscanImport_1.24.0.tar.gz /Library/Frameworks/R.framework/Resources/bin/R tRNAscanImport.buildbin-libdir StartedAt: 2024-10-15 20:43:31 -0400 (Tue, 15 Oct 2024) EndedAt: 2024-10-15 20:44:24 -0400 (Tue, 15 Oct 2024) EllapsedTime: 53.3 seconds RetCode: 0 Status: OK PackageFile: tRNAscanImport_1.24.0.tgz PackageFileSize: 925.3 KiB