Package: tRNAscanImport Version: 1.24.0 Maintainer: Felix G.M. Ernst MaintainerEmail: felix.gm.ernst at outlook.com git_url: https://git.bioconductor.org/packages/tRNAscanImport git_branch: RELEASE_3_19 git_last_commit: 527df13 git_last_commit_date: 2024-04-30 11:04:29 -0400 (Tue, 30 Apr 2024)