Package: tRNAdbImport Version: 1.22.0 Command: chmod a+r tRNAdbImport -R && E:\biocbuild\bbs-3.19-bioc\R\bin\R.exe CMD build --keep-empty-dirs --no-resave-data tRNAdbImport StartedAt: 2024-10-16 22:25:48 -0400 (Wed, 16 Oct 2024) EndedAt: 2024-10-16 22:26:32 -0400 (Wed, 16 Oct 2024) EllapsedTime: 43.6 seconds RetCode: 0 Status: OK PackageFile: tRNAdbImport_1.22.0.tar.gz PackageFileSize: 322.1 KiB