Package: tRNAdbImport Version: 1.22.0 Command: /home/biocbuild/bbs-3.19-bioc/R/bin/R CMD build --keep-empty-dirs --no-resave-data tRNAdbImport StartedAt: 2024-10-16 21:15:02 -0400 (Wed, 16 Oct 2024) EndedAt: 2024-10-16 21:15:31 -0400 (Wed, 16 Oct 2024) EllapsedTime: 29.1 seconds RetCode: 0 Status: OK PackageFile: tRNAdbImport_1.22.0.tar.gz PackageFileSize: 322 KiB