Package: tRNAdbImport Version: 1.22.0 Command: rm -rf tRNAdbImport.buildbin-libdir && mkdir tRNAdbImport.buildbin-libdir && /Users/biocbuild/BBS/utils/build-universal.sh tRNAdbImport_1.22.0.tar.gz /Library/Frameworks/R.framework/Resources/bin/R tRNAdbImport.buildbin-libdir StartedAt: 2024-10-17 17:23:51 -0400 (Thu, 17 Oct 2024) EndedAt: 2024-10-17 17:24:28 -0400 (Thu, 17 Oct 2024) EllapsedTime: 37.4 seconds RetCode: 0 Status: OK PackageFile: tRNAdbImport_1.22.0.tgz PackageFileSize: 378.8 KiB