Package: tRNA Version: 1.22.0 Command: E:\biocbuild\bbs-3.19-bioc\R\bin\R.exe CMD check --no-multiarch --install=check:tRNA.install-out.txt --library=E:\biocbuild\bbs-3.19-bioc\R\library --no-vignettes --timings tRNA_1.22.0.tar.gz StartedAt: 2024-10-17 06:43:41 -0400 (Thu, 17 Oct 2024) EndedAt: 2024-10-17 06:47:40 -0400 (Thu, 17 Oct 2024) EllapsedTime: 238.9 seconds RetCode: 0 Status: OK CheckDir: tRNA.Rcheck Warnings: 0