Package: tRNA Version: 1.22.0 Command: chmod a+r tRNA -R && E:\biocbuild\bbs-3.19-bioc\R\bin\R.exe CMD build --keep-empty-dirs --no-resave-data tRNA StartedAt: 2024-10-16 22:25:36 -0400 (Wed, 16 Oct 2024) EndedAt: 2024-10-16 22:28:53 -0400 (Wed, 16 Oct 2024) EllapsedTime: 197.3 seconds RetCode: 0 Status: OK PackageFile: tRNA_1.22.0.tar.gz PackageFileSize: 590.6 KiB