Package: tRNA Version: 1.22.0 Command: /Library/Frameworks/R.framework/Resources/bin/R CMD check --install=check:tRNA.install-out.txt --library=/Library/Frameworks/R.framework/Resources/library --no-vignettes --timings tRNA_1.22.0.tar.gz StartedAt: 2024-10-17 14:44:27 -0400 (Thu, 17 Oct 2024) EndedAt: 2024-10-17 14:54:35 -0400 (Thu, 17 Oct 2024) EllapsedTime: 608.0 seconds RetCode: 0 Status: OK CheckDir: tRNA.Rcheck Warnings: 0