Package: tRNA Version: 1.22.0 Command: /Library/Frameworks/R.framework/Resources/bin/R CMD build --keep-empty-dirs --no-resave-data tRNA StartedAt: 2024-10-17 00:06:18 -0400 (Thu, 17 Oct 2024) EndedAt: 2024-10-17 00:13:52 -0400 (Thu, 17 Oct 2024) EllapsedTime: 454.5 seconds RetCode: 0 Status: OK PackageFile: tRNA_1.22.0.tar.gz PackageFileSize: 1.299 MiB