Package: tLOH Version: 1.12.0 Command: E:\biocbuild\bbs-3.19-bioc\R\bin\R.exe CMD INSTALL tLOH StartedAt: 2024-10-16 17:07:32 -0400 (Wed, 16 Oct 2024) EndedAt: 2024-10-16 17:08:27 -0400 (Wed, 16 Oct 2024) EllapsedTime: 54.3 seconds RetCode: 0 Status: OK