Package: tLOH Version: 1.12.0 Command: chmod a+r tLOH -R && E:\biocbuild\bbs-3.19-bioc\R\bin\R.exe CMD build --keep-empty-dirs --no-resave-data tLOH StartedAt: 2024-10-16 22:21:55 -0400 (Wed, 16 Oct 2024) EndedAt: 2024-10-16 22:23:19 -0400 (Wed, 16 Oct 2024) EllapsedTime: 84.5 seconds RetCode: 0 Status: OK PackageFile: tLOH_1.12.0.tar.gz PackageFileSize: 1.732 MiB