Package: tLOH Version: 1.12.0 Command: /home/biocbuild/bbs-3.19-bioc/R/bin/R CMD INSTALL tLOH StartedAt: 2024-10-16 16:35:38 -0400 (Wed, 16 Oct 2024) EndedAt: 2024-10-16 16:36:20 -0400 (Wed, 16 Oct 2024) EllapsedTime: 42.3 seconds RetCode: 0 Status: OK