Package: tLOH Version: 1.12.0 Command: /home/biocbuild/bbs-3.19-bioc/R/bin/R CMD build --keep-empty-dirs --no-resave-data tLOH StartedAt: 2024-10-16 21:11:43 -0400 (Wed, 16 Oct 2024) EndedAt: 2024-10-16 21:12:54 -0400 (Wed, 16 Oct 2024) EllapsedTime: 70.2 seconds RetCode: 0 Status: OK PackageFile: tLOH_1.12.0.tar.gz PackageFileSize: 2.239 MiB