Package: tLOH Version: 1.12.0 Command: /Library/Frameworks/R.framework/Resources/bin/R CMD build --keep-empty-dirs --no-resave-data tLOH StartedAt: 2024-10-17 00:00:18 -0400 (Thu, 17 Oct 2024) EndedAt: 2024-10-17 00:03:13 -0400 (Thu, 17 Oct 2024) EllapsedTime: 174.8 seconds RetCode: 0 Status: OK PackageFile: tLOH_1.12.0.tar.gz PackageFileSize: 2.434 MiB