Package: tLOH Version: 1.12.0 Command: /home/biocbuild/R/R-beta-2024-04-15_r86425/bin/R CMD check --install=check:tLOH.install-out.txt --library=/home/biocbuild/R/R-beta-2024-04-15_r86425/site-library --no-vignettes --timings tLOH_1.12.0.tar.gz StartedAt: 2024-05-08 12:45:08 -0000 (Wed, 08 May 2024) EndedAt: 2024-05-08 12:59:18 -0000 (Wed, 08 May 2024) EllapsedTime: 849.6 seconds RetCode: 0 Status: OK CheckDir: tLOH.Rcheck Warnings: 0