Package: tLOH Version: 1.12.0 Command: /Library/Frameworks/R.framework/Resources/bin/R CMD INSTALL tLOH StartedAt: 2024-06-09 17:11:18 -0400 (Sun, 09 Jun 2024) EndedAt: 2024-06-09 17:12:25 -0400 (Sun, 09 Jun 2024) EllapsedTime: 67.1 seconds RetCode: 0 Status: OK