Package: tLOH Version: 1.12.0 Command: /Library/Frameworks/R.framework/Resources/bin/R CMD check --install=check:tLOH.install-out.txt --library=/Library/Frameworks/R.framework/Resources/library --no-vignettes --timings tLOH_1.12.0.tar.gz StartedAt: 2024-06-11 08:22:23 -0400 (Tue, 11 Jun 2024) EndedAt: 2024-06-11 08:38:18 -0400 (Tue, 11 Jun 2024) EllapsedTime: 954.6 seconds RetCode: 0 Status: OK CheckDir: tLOH.Rcheck Warnings: 0