Package: tLOH Version: 1.12.0 Command: /Library/Frameworks/R.framework/Resources/bin/R CMD check --install=check:tLOH.install-out.txt --library=/Library/Frameworks/R.framework/Resources/library --no-vignettes --timings tLOH_1.12.0.tar.gz StartedAt: 2024-10-18 15:19:06 -0400 (Fri, 18 Oct 2024) EndedAt: 2024-10-18 15:31:32 -0400 (Fri, 18 Oct 2024) EllapsedTime: 745.6 seconds RetCode: 0 Status: OK CheckDir: tLOH.Rcheck Warnings: 0