Package: tLOH Version: 1.12.0 Maintainer: Michelle Webb MaintainerEmail: michelgw at usc.edu git_url: https://git.bioconductor.org/packages/tLOH git_branch: RELEASE_3_19 git_last_commit: 677831a git_last_commit_date: 2024-04-30 11:33:45 -0400 (Tue, 30 Apr 2024)