Package: systemPipeTools Version: 1.12.0 Command: chmod a+r systemPipeTools -R && F:\biocbuild\bbs-3.19-bioc\R\bin\R.exe CMD build --keep-empty-dirs --no-resave-data systemPipeTools StartedAt: 2024-06-26 22:19:02 -0400 (Wed, 26 Jun 2024) EndedAt: 2024-06-26 22:20:30 -0400 (Wed, 26 Jun 2024) EllapsedTime: 88.3 seconds RetCode: 0 Status: OK PackageFile: systemPipeTools_1.12.0.tar.gz PackageFileSize: 547.4 KiB