Package: systemPipeTools Version: 1.12.0 Command: rm -rf systemPipeTools.buildbin-libdir && mkdir systemPipeTools.buildbin-libdir && F:\biocbuild\bbs-3.19-bioc\R\bin\R.exe CMD INSTALL --build --library=systemPipeTools.buildbin-libdir systemPipeTools_1.12.0.tar.gz StartedAt: 2024-06-27 09:01:36 -0400 (Thu, 27 Jun 2024) EndedAt: 2024-06-27 09:02:26 -0400 (Thu, 27 Jun 2024) EllapsedTime: 50.4 seconds RetCode: 0 Status: OK PackageFile: systemPipeTools_1.12.0.zip PackageFileSize: 608.8 KiB