Package: systemPipeTools Version: 1.12.0 Command: /home/biocbuild/bbs-3.19-bioc/R/bin/R CMD INSTALL systemPipeTools StartedAt: 2024-10-16 16:41:14 -0400 (Wed, 16 Oct 2024) EndedAt: 2024-10-16 16:41:38 -0400 (Wed, 16 Oct 2024) EllapsedTime: 23.9 seconds RetCode: 0 Status: OK