Package: systemPipeTools Version: 1.12.0 Command: /home/biocbuild/bbs-3.19-bioc/R/bin/R CMD check --install=check:systemPipeTools.install-out.txt --library=/home/biocbuild/bbs-3.19-bioc/R/site-library --timings systemPipeTools_1.12.0.tar.gz StartedAt: 2024-10-17 05:45:56 -0400 (Thu, 17 Oct 2024) EndedAt: 2024-10-17 05:50:35 -0400 (Thu, 17 Oct 2024) EllapsedTime: 279.6 seconds RetCode: 0 Status: WARNINGS CheckDir: systemPipeTools.Rcheck Warnings: 1