Package: systemPipeTools Version: 1.12.0 Command: /home/biocbuild/bbs-3.19-bioc/R/bin/R CMD build --keep-empty-dirs --no-resave-data systemPipeTools StartedAt: 2024-10-16 21:07:19 -0400 (Wed, 16 Oct 2024) EndedAt: 2024-10-16 21:08:16 -0400 (Wed, 16 Oct 2024) EllapsedTime: 57.1 seconds RetCode: 0 Status: OK PackageFile: systemPipeTools_1.12.0.tar.gz PackageFileSize: 886.8 KiB