Package: systemPipeTools Version: 1.12.0 Maintainer: Daniela Cassol MaintainerEmail: danicassol at gmail.com git_url: https://git.bioconductor.org/packages/systemPipeTools git_branch: RELEASE_3_19 git_last_commit: bc46f56 git_last_commit_date: 2024-04-30 11:35:09 -0400 (Tue, 30 Apr 2024)