Package: systemPipeShiny Version: 1.14.0 Command: rm -rf systemPipeShiny.buildbin-libdir && mkdir systemPipeShiny.buildbin-libdir && E:\biocbuild\bbs-3.19-bioc\R\bin\R.exe CMD INSTALL --build --library=systemPipeShiny.buildbin-libdir systemPipeShiny_1.14.0.tar.gz StartedAt: 2024-10-17 08:45:36 -0400 (Thu, 17 Oct 2024) EndedAt: 2024-10-17 08:46:47 -0400 (Thu, 17 Oct 2024) EllapsedTime: 71.4 seconds RetCode: 0 Status: OK PackageFile: systemPipeShiny_1.14.0.zip PackageFileSize: 3.603 MiB