Package: systemPipeShiny Version: 1.14.0 Command: /home/biocbuild/bbs-3.19-bioc/R/bin/R CMD build --keep-empty-dirs --no-resave-data systemPipeShiny StartedAt: 2024-10-16 21:07:17 -0400 (Wed, 16 Oct 2024) EndedAt: 2024-10-16 21:07:39 -0400 (Wed, 16 Oct 2024) EllapsedTime: 22.0 seconds RetCode: 0 Status: OK PackageFile: systemPipeShiny_1.14.0.tar.gz PackageFileSize: 4.307 MiB