Package: systemPipeShiny Version: 1.14.0 Command: /Library/Frameworks/R.framework/Resources/bin/R CMD build --keep-empty-dirs --no-resave-data systemPipeShiny StartedAt: 2024-10-16 23:52:49 -0400 (Wed, 16 Oct 2024) EndedAt: 2024-10-16 23:53:49 -0400 (Wed, 16 Oct 2024) EllapsedTime: 59.5 seconds RetCode: 0 Status: OK PackageFile: systemPipeShiny_1.14.0.tar.gz PackageFileSize: 4.307 MiB