Package: systemPipeShiny Version: 1.14.0 Command: /Library/Frameworks/R.framework/Resources/bin/R CMD check --install=check:systemPipeShiny.install-out.txt --library=/Library/Frameworks/R.framework/Resources/library --no-vignettes --timings systemPipeShiny_1.14.0.tar.gz StartedAt: 2024-06-09 23:28:28 -0400 (Sun, 09 Jun 2024) EndedAt: 2024-06-09 23:30:20 -0400 (Sun, 09 Jun 2024) EllapsedTime: 112.8 seconds RetCode: 0 Status: OK CheckDir: systemPipeShiny.Rcheck Warnings: 0