Package: systemPipeShiny Version: 1.14.0 Command: /home/biocbuild/R/R-beta-2024-04-15_r86425/bin/R CMD check --install=check:systemPipeShiny.install-out.txt --library=/home/biocbuild/R/R-beta-2024-04-15_r86425/site-library --no-vignettes --timings systemPipeShiny_1.14.0.tar.gz StartedAt: 2024-05-08 12:34:04 -0000 (Wed, 08 May 2024) EndedAt: 2024-05-08 12:36:01 -0000 (Wed, 08 May 2024) EllapsedTime: 117.2 seconds RetCode: 0 Status: OK CheckDir: systemPipeShiny.Rcheck Warnings: 0