Package: systemPipeShiny Version: 1.14.0 Command: /Library/Frameworks/R.framework/Resources/bin/R CMD INSTALL systemPipeShiny StartedAt: 2024-06-09 16:26:10 -0400 (Sun, 09 Jun 2024) EndedAt: 2024-06-09 16:26:32 -0400 (Sun, 09 Jun 2024) EllapsedTime: 21.7 seconds RetCode: 0 Status: OK