Package: systemPipeShiny Version: 1.14.0 Command: /Library/Frameworks/R.framework/Resources/bin/R CMD build --keep-empty-dirs --no-resave-data systemPipeShiny StartedAt: 2024-06-10 05:47:21 -0400 (Mon, 10 Jun 2024) EndedAt: 2024-06-10 05:48:22 -0400 (Mon, 10 Jun 2024) EllapsedTime: 60.5 seconds RetCode: 0 Status: OK PackageFile: systemPipeShiny_1.14.0.tar.gz PackageFileSize: 4.308 MiB