Package: systemPipeShiny Version: 1.14.0 Command: /Library/Frameworks/R.framework/Resources/bin/R CMD INSTALL systemPipeShiny StartedAt: 2024-10-16 17:27:58 -0400 (Wed, 16 Oct 2024) EndedAt: 2024-10-16 17:28:14 -0400 (Wed, 16 Oct 2024) EllapsedTime: 16.0 seconds RetCode: 0 Status: OK