Package: systemPipeShiny Version: 1.14.0 Command: rm -rf systemPipeShiny.buildbin-libdir && mkdir systemPipeShiny.buildbin-libdir && /Users/biocbuild/BBS/utils/build-universal.sh systemPipeShiny_1.14.0.tar.gz /Library/Frameworks/R.framework/Resources/bin/R systemPipeShiny.buildbin-libdir StartedAt: 2024-10-15 20:34:14 -0400 (Tue, 15 Oct 2024) EndedAt: 2024-10-15 20:34:36 -0400 (Tue, 15 Oct 2024) EllapsedTime: 22.6 seconds RetCode: 0 Status: OK PackageFile: systemPipeShiny_1.14.0.tgz PackageFileSize: 3.579 MiB