Package: systemPipeR Version: 2.10.0 Command: E:\biocbuild\bbs-3.19-bioc\R\bin\R.exe CMD INSTALL systemPipeR StartedAt: 2024-10-16 16:37:44 -0400 (Wed, 16 Oct 2024) EndedAt: 2024-10-16 16:40:44 -0400 (Wed, 16 Oct 2024) EllapsedTime: 180.3 seconds RetCode: 0 Status: OK