Package: systemPipeR Version: 2.10.0 Command: E:\biocbuild\bbs-3.19-bioc\R\bin\R.exe CMD check --no-multiarch --install=check:systemPipeR.install-out.txt --library=E:\biocbuild\bbs-3.19-bioc\R\library --no-vignettes --timings systemPipeR_2.10.0.tar.gz StartedAt: 2024-10-17 06:23:48 -0400 (Thu, 17 Oct 2024) EndedAt: 2024-10-17 06:30:50 -0400 (Thu, 17 Oct 2024) EllapsedTime: 421.8 seconds RetCode: 0 Status: OK CheckDir: systemPipeR.Rcheck Warnings: 0