Package: systemPipeR Version: 2.10.0 Command: chmod a+r systemPipeR -R && E:\biocbuild\bbs-3.19-bioc\R\bin\R.exe CMD build --keep-empty-dirs --no-resave-data systemPipeR StartedAt: 2024-10-16 22:17:06 -0400 (Wed, 16 Oct 2024) EndedAt: 2024-10-16 22:20:07 -0400 (Wed, 16 Oct 2024) EllapsedTime: 181.2 seconds RetCode: 0 Status: OK PackageFile: systemPipeR_2.10.0.tar.gz PackageFileSize: 7.017 MiB