Package: systemPipeR Version: 2.10.0 Command: rm -rf systemPipeR.buildbin-libdir && mkdir systemPipeR.buildbin-libdir && E:\biocbuild\bbs-3.19-bioc\R\bin\R.exe CMD INSTALL --build --library=systemPipeR.buildbin-libdir systemPipeR_2.10.0.tar.gz StartedAt: 2024-10-17 08:45:29 -0400 (Thu, 17 Oct 2024) EndedAt: 2024-10-17 08:47:46 -0400 (Thu, 17 Oct 2024) EllapsedTime: 137.5 seconds RetCode: 0 Status: OK PackageFile: systemPipeR_2.10.0.zip PackageFileSize: 6.377 MiB