Package: systemPipeR Version: 2.10.0 Command: F:\biocbuild\bbs-3.19-bioc\R\bin\R.exe CMD INSTALL systemPipeR StartedAt: 2024-06-26 16:16:25 -0400 (Wed, 26 Jun 2024) EndedAt: 2024-06-26 16:17:59 -0400 (Wed, 26 Jun 2024) EllapsedTime: 93.4 seconds RetCode: 0 Status: OK