Package: systemPipeR Version: 2.10.0 Command: /home/biocbuild/bbs-3.19-bioc/R/bin/R CMD INSTALL systemPipeR StartedAt: 2024-10-16 16:16:57 -0400 (Wed, 16 Oct 2024) EndedAt: 2024-10-16 16:17:39 -0400 (Wed, 16 Oct 2024) EllapsedTime: 42.8 seconds RetCode: 0 Status: OK