Package: systemPipeR Version: 2.10.0 Command: /Library/Frameworks/R.framework/Resources/bin/R CMD check --install=check:systemPipeR.install-out.txt --library=/Library/Frameworks/R.framework/Resources/library --no-vignettes --timings systemPipeR_2.10.0.tar.gz StartedAt: 2024-10-17 14:09:49 -0400 (Thu, 17 Oct 2024) EndedAt: 2024-10-17 14:23:32 -0400 (Thu, 17 Oct 2024) EllapsedTime: 822.4 seconds RetCode: 0 Status: OK CheckDir: systemPipeR.Rcheck Warnings: 0